BEGIN:VCALENDAR
VERSION:2.0
PRODID:-//ChamberMaster//Event Calendar 2.0//EN
METHOD:PUBLISH
X-PUBLISHED-TTL:P3D
REFRESH-INTERVAL:P3D
CALSCALE:GREGORIAN
BEGIN:VEVENT
DTSTART:20260421T123000Z
DTEND:20260421T133000Z
X-MICROSOFT-CDO-ALLDAYEVENT:FALSE
SUMMARY:Maximize Your Membership
DESCRIPTION:Learn what the chamber can do for you!
X-ALT-DESC;FMTTYPE=text/html:Learn what the chamber can do for you!
LOCATION:Frankfort Area Chamber of Commerce 484 Chenault Rd Frankfort KY 40601
UID:e.1786.6530
SEQUENCE:3
DTSTAMP:20260425T192418Z
URL:http://frankfortky.chambermaster.com/events/details/maximize-your-membership-6530
END:VEVENT

END:VCALENDAR
