BEGIN:VCALENDAR
VERSION:2.0
PRODID:-//ChamberMaster//Event Calendar 2.0//EN
METHOD:PUBLISH
X-PUBLISHED-TTL:P3D
REFRESH-INTERVAL:P3D
CALSCALE:GREGORIAN
BEGIN:VEVENT
DTSTART:20260223T190000Z
DTEND:20260223T200000Z
X-MICROSOFT-CDO-ALLDAYEVENT:FALSE
SUMMARY:Emerging Leaders Professional Development Series
DESCRIPTION:Join us for the first session in our Professional Development Series.
X-ALT-DESC;FMTTYPE=text/html:Join us for the first session in our Professional Development Series.
LOCATION:The Kentucky Chamber 464 Chenault Road Frankfort\, KY 40601
UID:e.1786.6443
SEQUENCE:3
DTSTAMP:20260426T035531Z
URL:http://frankfortky.chambermaster.com/events/details/emerging-leaders-professional-development-series-6443
END:VEVENT

END:VCALENDAR
